BEGIN:VCALENDAR
VERSION:2.0
PRODID:-//Myos - ECPv6.2.4//NONSGML v1.0//EN
CALSCALE:GREGORIAN
METHOD:PUBLISH
X-WR-CALNAME:Myos
X-ORIGINAL-URL:https://myos.pt
X-WR-CALDESC:Events for Myos
REFRESH-INTERVAL;VALUE=DURATION:PT1H
X-Robots-Tag:noindex
X-PUBLISHED-TTL:PT1H
BEGIN:VTIMEZONE
TZID:Europe/Lisbon
BEGIN:DAYLIGHT
TZOFFSETFROM:+0000
TZOFFSETTO:+0100
TZNAME:WEST
DTSTART:20240331T010000
END:DAYLIGHT
BEGIN:STANDARD
TZOFFSETFROM:+0100
TZOFFSETTO:+0000
TZNAME:WET
DTSTART:20241027T010000
END:STANDARD
END:VTIMEZONE
BEGIN:VEVENT
DTSTART;TZID=Europe/Lisbon:20240403T090000
DTEND;TZID=Europe/Lisbon:20240404T180000
DTSTAMP:20260422T045946
CREATED:20240307T165546Z
LAST-MODIFIED:20240314T193010Z
UID:6767-1712134800-1712253600@myos.pt
SUMMARY:1ª Conferência Internacional sobre EM/SFC e COVID Longa
DESCRIPTION:Encefalomielite Miálgica\, Síndrome de Fadiga Crónica e a correlação com COVID Longa no centro de debate com especialistas internacionais\, 3 e 4 de abril de 2024\, em Lisboa. \n  \nA 1ª Conferência Internacional sobre Avanços Clínicos e Científicos em Encefalomielite Miálgica / Síndrome de Fadiga Crónica (EM/SFC) e COVID Longa irá realizar-se nos dias 3 e 4 de Abril de 2024. \nDurante dois dias\, cientistas de topo e médicos especialistas internacionais e nacionais vão partilhar e discutir as últimas evidências e descobertas biomédicas sobre estas doenças. Esta conferência\, a primeira do género a ocorrer em Portugal\, será realizada num formato híbrido. O evento irá realizar-se no auditório da FLAD – Fundação Luso-Americana para o Desenvolvimento\, em Lisboa e terá transmissão online simultânea. \n  \nA conferência é organizada numa parceria entre o ISBE – Instituto de Saúde Baseada na Evidência\, a NOVA Medical School – Faculdade de Ciências Médicas\, a Myos – Associação Nacional Contra a Fibromialgia e Síndrome de Fadiga Crónica e o coletivo Millions Missing Aliança\, tendo o projeto sido concebido como uma iniciativa de um grupo de doentes com EM/SFC deste colectivo. \nO evento tem como parceiros o Centro de Investigação em EM/SFC Ronald G. Tompkins Harvard\, a OMF – Open Medicine Foundation\, a World ME Alliance e a FLAD – Fundação Luso-Americana para o Desenvolvimento. \n  \nEsta conferência tem o objetivo de aumentar a visibilidade\, clarificar conceitos erróneos\, promover a compreensão e estimular a discussão entre profissionais de saúde\, investigadores\, decisores políticos\, pacientes e representantes da comunidade sobre as manifestações clínicas\, a sua gestão\, opções terapêuticas e os desafios para a saúde ligados à Encefalomielite Miálgica/Síndrome de Fadiga Crónica (EM/SFC) e à COVID Longa. \nA incidência da EM/SFC continua a aumentar a nível global\, sobretudo no rescaldo da síndrome respiratória aguda grave por coronavírus 2 (SARS-CoV-2) e COVID Longa\, realçando a necessidade de diagnóstico e tratamento adequados. Os resultados de vários laboratórios realçam a sobreposição de ambas as doenças\, com sintomatologia similar e até mesmo partilhando alterações nos processos biológicos. O que salienta a importância de uma educação médica contínua e atualizações frequentes sobre a investigação\, o diagnóstico e as recomendações de tratamento. \n  \nNo primeiro dia do evento será apresentada uma visão global dos últimos avanços nos aspetos clínicos e científicos sobre estas doenças\, iniciativas de medidas políticas de referência e o trabalho de sensibilização realizado pelas associações. No segundo dia\, o foco será aprofundar a investigação científica em EM/SFC e COVID Longa e os seus tratamentos promissores. \n  \nPrograma da Conferência:\nPrograma\n  \nSendo uma conferência internacional\, com palestrantes de várias nacionalidades\, a conferência será maioritariamente em inglês\, com algumas sessões em português. Estamos a desenvolver esforços para que haja legendagem simultânea em português. \n\nComo participar?\nA participação nesta conferência é gratuita\, mas é obrigatória inscrição prévia. Para poder participar online\, faça a sua inscrição até ao dia 25 de Março no seguinte formulário:  \n  \nMais informações em: conferencia-emsfc-pos-covid.pt/pt/\n  \nContamos com a sua participação\, assim como ajuda na divulgação deste evento. \n  \nSe puder\, contribua!\nEsta união entre especialistas e doentes na discussão e divulgação deste tema muito orgulha a Myos\, que tem a correr uma campanha de angariação de fundos que vão ajudar a cobrir parte dos custos com a conferência. Todos os donativos\, de qualquer valor\, são bem-vindos e vão contribuir para que se dê mais atenção à Encefalomielite Miálgica/Síndrome de Fadiga Crónica em Portugal. \n  \nPoderá contribuir através de: \nPayPal: bit.ly/PayPalMyos \n\nOu transferência bancaria para:\nMyos – Associação Nacional Contra a Fibromialgia e Síndrome de Fadiga Crónica\nMorada: Av. Santos Dumont\, nº 67\, 1º andar\, 1050-203 Lisboa\, Portugal\nNúmero de telefone: +351 96 179 27 30\nIBAN: PT50 0033 0000 45243922237 05 \nEm caso de doação\, envie um email para info@conferencia-emsfc-pos-covid.pt/ com o comprovativo de transferência e com a indicação do nome\, morada e NIF para emissão e envio de recibo de donativo.
URL:https://myos.pt/evento/2024-04-03-1a-conferencia-internacional-sobre-em-sfc-e-covid-longa/
LOCATION:Online
CATEGORIES:Associação
ATTACH;FMTTYPE=image/jpeg:https://myos.pt/wp-content/uploads/2024/03/Post_ConferenciaInternacional_EM_SFC_COVIDLonga.jpg
END:VEVENT
END:VCALENDAR