BEGIN:VCALENDAR
VERSION:2.0
PRODID:-//Myos - ECPv6.2.4//NONSGML v1.0//EN
CALSCALE:GREGORIAN
METHOD:PUBLISH
X-ORIGINAL-URL:https://myos.pt
X-WR-CALDESC:Events for Myos
REFRESH-INTERVAL;VALUE=DURATION:PT1H
X-Robots-Tag:noindex
X-PUBLISHED-TTL:PT1H
BEGIN:VTIMEZONE
TZID:UTC
BEGIN:STANDARD
TZOFFSETFROM:+0000
TZOFFSETTO:+0000
TZNAME:UTC
DTSTART:20230101T000000
END:STANDARD
END:VTIMEZONE
BEGIN:VEVENT
DTSTART;TZID=UTC:20230513T141500
DTEND;TZID=UTC:20230513T183000
DTSTAMP:20260422T214352
CREATED:20230428T195712Z
LAST-MODIFIED:20230502T140212Z
UID:6638-1683987300-1684002600@myos.pt
SUMMARY:XV Fórum Myos
DESCRIPTION:No dia 13 de Maio\, sábado\, irá realizar-se o XV Fórum Myos\, com o tema “Myos 20 anos: Passado\, Presente e Futuro”\, organizado pela Delegação de Lisboa e Vale do Tejo da Myos. O evento irá decorrer no Auditório Carlos Paredes\, na Junta de Freguesia de Benfica\, na Av. Gomes Pereira\, n.º 17\, em Lisboa. \nA edição deste ano do fórum irá assinalar o 20.º aniversário da Myos\, que ocorre no dia 12 de Maio. Foi neste dia\, em 2003\, que a associação Myos fez a sua apresentação pública no Auditório Carlos Paredes. \n  \nPrograma\n14h15  |  Receção dos participantes \n  \n15h00  |  Sessão de abertura \n  \n15h20  |  Fibromialgia e Encefalomielite Miálgica (Síndrome de Fadiga Crónica): Conhecimento atual\, diferenças e pontos comuns \nDr. Paulo Clemente Coelho (Reumatologista\, médico no Instituto Português de Reumatologia) \n  \n16h00  |  Compreender a Fibromialgia \nProfessora Dr.ª Rita Canaipa (Psicóloga\, Professora na Universidade Católica\, responsável pela consulta de Psicologia na sede da Myos e membro do Conselho Técnico-Científico da Myos) \n  \n16h30  | Pontes entre a saúde psicológica e a saúde física: o que nos mostra a ciência no que toca ao bem-estar? \nProfessora Dr.ª Helena Águeda Marujo (Psicóloga\, Professora no Instituto Superior de Ciências Sociais e Políticas da Universidade de Lisboa e membro do CTC da Myos) \n  \n17h00  | Myos 20 anos: Passado\, Presente e Futuro \nRepresentante da Myos \n  \n17h30  |  Sessão de encerramento \nProfessor Dr. Jaime Branco\, Presidente do Conselho Técnico-Científico da Myos (a confirmar) \n  \n17h45  |  Lanche Convívio \n  \nCondições de inscrição (Data Limite – 8 de Maio):\nEntrada GRATUITA\, mas condicionada a inscrição prévia obrigatória (com o preenchimento de formulário). \nA prioridade para a participação neste evento é dada pela ordem de inscrição e é limitada à capacidade máxima do auditório. \nRealize a sua inscrição\, através do seguinte link: https://forms.gle/ooW2oki6o2bZjoED6 \n  \nEste evento conta com o apoio da Junta de Freguesia de Benfica que gentilmente nos cedeu o Auditório Carlos Paredes para a realização do Fórum. \n  \nPara MAIS INFORMAÇÕES\, poderá contactar a Myos através do seguinte email: secretariado@myos.pt \n  \nCartaz e Programa do Evento\n \nCartaz XV Fórum Myos \n  \nPrograma XV Fórum Myos
URL:https://myos.pt/evento/2023-05-13-xv-forum-myos/
LOCATION:Auditório Carlos Paredes\, na Junta de Freguesia de Benfica\, Av. Gomes Pereira\, 17\, Lisboa\, 1549-019
CATEGORIES:Associação
ATTACH;FMTTYPE=image/jpeg:https://myos.pt/wp-content/uploads/2023/04/XV-Forum-Myos-13-05-2023_MyosOnline.jpg
END:VEVENT
BEGIN:VEVENT
DTSTART;TZID=UTC:20230527T153000
DTEND;TZID=UTC:20230527T170000
DTSTAMP:20260422T214352
CREATED:20230523T171216Z
LAST-MODIFIED:20230523T171216Z
UID:6663-1685201400-1685206800@myos.pt
SUMMARY:Palestra “A importância do exercício físico na gestão da dor crónica”
DESCRIPTION:O Núcleo de Setúbal da Myos irá organizar no próximo dia 27 de Maio uma palestras intitulada “A importância do exercício físico na gestão da dor crónica”\, contando com a presença da fisioterapeuta Patrícia Falcão\, que irá abordar aspetos importantes sobre a dor e os fatores que a influenciam. \nEste evento terá início pelas 15h30 na Clínica ATREF Saúde (morada: Rua Camilo Castelo Branco\, 192A\, 2910-447 Setúbal)\, e será destinado para todos as pessoas que possam sofrer de dor crónica\, bem como para aqueles que queiram compreender melhor esta temática. \nSerá necessária inscrição prévia até dia 26 DE MAIO\, com o limite máximo de 10 participantes (as vagas serão preenchidas por ordem de inscrição). \n  \nPara mais informações ou inscrições poderá contactar-nos: \nNúcleo de Setúbal\nTelm: 964 229 998 (Horário de Atendimento: segundas das 10h – 12h30\, quartas e sextas das 15h – 17h30) \nE-mail: setubal@myos.pt \n  \nFicamos a aguardar por si!
URL:https://myos.pt/evento/2023-05-27-palestra-importancia-exercicio-fisico-na-gestao-da-dor-cronica/
LOCATION:Clínica ATREF Saúde\, Rua Camilo Castelo Branco\, 192A\,\, Setúbal\, 2910-447
CATEGORIES:Associação
ATTACH;FMTTYPE=image/jpeg:https://myos.pt/wp-content/uploads/2023/05/Palestra_27Maio2023_Nucleo-de-Setubal-2_Imagem-Site-Myos.jpg
END:VEVENT
END:VCALENDAR