BEGIN:VCALENDAR
VERSION:2.0
PRODID:-//Myos - ECPv6.2.4//NONSGML v1.0//EN
CALSCALE:GREGORIAN
METHOD:PUBLISH
X-ORIGINAL-URL:https://myos.pt
X-WR-CALDESC:Events for Myos
REFRESH-INTERVAL;VALUE=DURATION:PT1H
X-Robots-Tag:noindex
X-PUBLISHED-TTL:PT1H
BEGIN:VTIMEZONE
TZID:UTC
BEGIN:STANDARD
TZOFFSETFROM:+0000
TZOFFSETTO:+0000
TZNAME:UTC
DTSTART:20220101T000000
END:STANDARD
END:VTIMEZONE
BEGIN:VEVENT
DTSTART;TZID=UTC:20221001T150000
DTEND;TZID=UTC:20221001T180000
DTSTAMP:20260423T075452
CREATED:20220923T184256Z
LAST-MODIFIED:20220923T190615Z
UID:6594-1664636400-1664647200@myos.pt
SUMMARY:I Convívio do Núcleo de Setúbal
DESCRIPTION:O Núcleo de Setúbal da Myos – Associação Nacional Contra a Fibromialgia e Síndrome de Fadiga Crónica promove no dia 1 de Outubro de 2022\, às 15h00\, o seu I Convívio\, de forma a comemorar o 1º aniversário do núcleo. O evento realizar-se-á no Auditório Bocage\, em Setúbal. \nEste evento contará com intervenções de profissionais de saúde de diversas áreas\, com o objetivo de informar e sensibilizar doentes\, familiares\, profissionais de saúde e população em geral sobre a Fibromialgia. \n  \nPROGRAMA:\n  \n15h00 – Receção dos Participantes \n  \n15h30 – Myos: Como tudo começou \nMaria João Freire (fundadora da Myos e membro da Direção Nacional) \n  \n16h00 – Intervenção psicológica na Fibromialgia\, porque\, como\, quando e para quem? \nProf.ª Dr.ª Rita Canaipa (Psicóloga e Professora na Universidade Católica e responsável pela consulta de Psicologia Cognitivo-Comportamental na sede da Myos) \n  \n16h45 – Projeto SELFIE \nProf.ª Dr.ª  Carmen Caeiro (Fisioterapeuta e Professora no Departamento de Fisioterapia da Escola Superior de Saúde do Instituto Politécnico de Setúbal) \n  \n17h30 – Lanche Convívio do 1º Aniversário do Núcleo \n  \n  \nLOCAL:\nAuditório Bocage\, situado na Avenida Nuno Álvares\, 2910-269 Setúbal \nCoordenadas GPS:  38.532074254204716\, -8.873882042592408 \n  \n  \nCONDIÇÕES DE INSCRIÇÃO (DATA LIMITE – 29 de Setembro):\nEntrada GRATUITA\, mas é obrigatória a inscrição prévia. \n  \nFormulário de Inscrição:   \n  \n  \n  \nPara MAIS INFORMAÇÕES\, poderá contactar a Myos através dos seguintes contatos: \n  \nSede Nacional\nTelefone: 961 792 730 (durante o horário de atendimento: 2ªs-feiras\, 4ªs-feiras e 6ªs-feiras\, das 14h às 18h) \nE-mail: secretariado@myos.pt \nNúcleo de Setúbal\nTelefone: 964 229 998 (durante o horário de atendimento: segundas e quartas das 14h às 16h\, sábados das 10h às 12h) \nE-mail: setubal@myos.pt \n  \nCartaz do evento
URL:https://myos.pt/evento/2022-10-01-i-convivio-do-nucleo-de-setubal/
LOCATION:Auditório Bocage\, Setúbal\, Avenida Nuno Álvares\,\, 2910-269 Setúbal\, Portugal
CATEGORIES:Associação
ATTACH;FMTTYPE=image/jpeg:https://myos.pt/wp-content/uploads/2022/09/I-Convivio-Nucleo-de-Setubal-da-Myos_1Out2022_Imagem-Site.jpg
END:VEVENT
END:VCALENDAR